BEGIN:VCALENDAR
VERSION:2.0
PRODID:-//217.160.0.216//NONSGML kigkonsult.se iCalcreator 2.20//
CALSCALE:GREGORIAN
METHOD:PUBLISH
X-WR-TIMEZONE:UTC
BEGIN:VEVENT
UID:event477@Kulturzentrum Staaken
DTSTAMP:20260420T115755Z
CATEGORIES:Kurse
DESCRIPTION:Erzählcafé\nKategorie: Kurse\nICS-Link: https://kulturzentrum-s
 taaken.de/index.php?option=com_jem&view=event&id=477:erzaehlcafe\n
DTSTART:20260520T153000Z
DTEND:20260520T153000Z
LOCATION:Kulturzentrum\,Sandstraße 41
SUMMARY:Erzählcafé
URL:https://kulturzentrum-staaken.de/index.php?option=com_jem&view=event&id
 =477:erzaehlcafe
END:VEVENT
END:VCALENDAR