BEGIN:VCALENDAR
VERSION:2.0
PRODID:-//217.160.0.216//NONSGML kigkonsult.se iCalcreator 2.20//
CALSCALE:GREGORIAN
METHOD:PUBLISH
X-WR-TIMEZONE:UTC
BEGIN:VEVENT
UID:event4@Kulturzentrum Staaken
DTSTAMP:20260420T090932Z
CATEGORIES:Veranstaltung
DESCRIPTION:Kulinarische Weltreise\nKategorie: Veranstaltung\nICS-Link: htt
 ps://kulturzentrum-staaken.de/index.php?option=com_jem&view=event&id=4:kul
 inarische-weltreise-17-04\n
DTSTART:20260417T150000Z
DTEND:20260417T150000Z
LOCATION:Kulturzentrum\,Sandstraße 41
SUMMARY:Kulinarische Weltreise
URL:https://kulturzentrum-staaken.de/index.php?option=com_jem&view=event&id
 =4:kulinarische-weltreise-17-04
END:VEVENT
END:VCALENDAR