BEGIN:VCALENDAR
VERSION:2.0
PRODID:-//217.160.0.216//NONSGML kigkonsult.se iCalcreator 2.20//
CALSCALE:GREGORIAN
METHOD:PUBLISH
X-WR-TIMEZONE:UTC
BEGIN:VEVENT
UID:event537@Kulturzentrum Staaken
DTSTAMP:20260420T150946Z
CATEGORIES:Kurse
DESCRIPTION:Pilates\nKategorie: Kurse\nICS-Link: https://kulturzentrum-staa
 ken.de/index.php?option=com_jem&view=event&id=537:pilates\n
DTSTART:20261111T083000Z
DTEND:20261111T083000Z
LOCATION:Kulturzentrum\,Sandstraße 41
SUMMARY:Pilates
URL:https://kulturzentrum-staaken.de/index.php?option=com_jem&view=event&id
 =537:pilates
END:VEVENT
END:VCALENDAR