BEGIN:VCALENDAR
VERSION:2.0
PRODID:-//217.160.0.216//NONSGML kigkonsult.se iCalcreator 2.20//
CALSCALE:GREGORIAN
METHOD:PUBLISH
X-WR-TIMEZONE:UTC
BEGIN:VEVENT
UID:event569@Kulturzentrum Staaken
DTSTAMP:20260420T134643Z
CATEGORIES:Kurse
DESCRIPTION:Mobility & Stretch\nKategorie: Kurse\nICS-Link: https://kulturz
 entrum-staaken.de/index.php?option=com_jem&view=event&id=569:mobility-stre
 tch\n
DTSTART:20261021T093000Z
DTEND:20261021T093000Z
LOCATION:Kulturzentrum\,Sandstraße 41
SUMMARY:Mobility & Stretch
URL:https://kulturzentrum-staaken.de/index.php?option=com_jem&view=event&id
 =569:mobility-stretch
END:VEVENT
END:VCALENDAR