BEGIN:VCALENDAR
VERSION:2.0
PRODID:-//217.160.0.216//NONSGML kigkonsult.se iCalcreator 2.20//
CALSCALE:GREGORIAN
METHOD:PUBLISH
X-WR-TIMEZONE:UTC
BEGIN:VEVENT
UID:event604@Kulturzentrum Staaken
DTSTAMP:20260420T183815Z
CATEGORIES:Kurse
DESCRIPTION:Fit in Kopf & Körper\nKategorie: Kurse\nICS-Link: https://kultu
 rzentrum-staaken.de/index.php?option=com_jem&view=event&id=604:fit-in-kopf
 -koerper\n
DTSTART:20261021T121500Z
DTEND:20261021T121500Z
LOCATION:Kulturzentrum\,Sandstraße 41
SUMMARY:Fit in Kopf & Körper
URL:https://kulturzentrum-staaken.de/index.php?option=com_jem&view=event&id
 =604:fit-in-kopf-koerper
END:VEVENT
END:VCALENDAR