BEGIN:VCALENDAR
VERSION:2.0
PRODID:-//217.160.0.216//NONSGML kigkonsult.se iCalcreator 2.20//
CALSCALE:GREGORIAN
METHOD:PUBLISH
X-WR-TIMEZONE:UTC
BEGIN:VEVENT
UID:event631@Kulturzentrum Staaken
DTSTAMP:20260420T115631Z
CATEGORIES:Kurse
DESCRIPTION:Puzzle-Treff\nKategorie: Kurse\nICS-Link: https://kulturzentrum
 -staaken.de/index.php?option=com_jem&view=event&id=631:puzzle-treff\n
DTSTART:20260826T150000Z
DTEND:20260826T150000Z
LOCATION:Kulturzentrum\,Sandstraße 41
SUMMARY:Puzzle-Treff
URL:https://kulturzentrum-staaken.de/index.php?option=com_jem&view=event&id
 =631:puzzle-treff
END:VEVENT
END:VCALENDAR