BEGIN:VCALENDAR
VERSION:2.0
PRODID:-//217.160.0.216//NONSGML kigkonsult.se iCalcreator 2.20//
CALSCALE:GREGORIAN
METHOD:PUBLISH
X-WR-TIMEZONE:UTC
BEGIN:VEVENT
UID:event709@Kulturzentrum Staaken
DTSTAMP:20260420T184345Z
CATEGORIES:Kurse
DESCRIPTION:Selbsthilfe CHAOS!\nKategorie: Kurse\nICS-Link: https://kulturz
 entrum-staaken.de/index.php?option=com_jem&view=event&id=709:selbsthilfe-c
 haos\n
DTSTART:20261022T170000Z
DTEND:20261022T170000Z
LOCATION:Kulturzentrum\,Sandstraße 41
SUMMARY:Selbsthilfe CHAOS!
URL:https://kulturzentrum-staaken.de/index.php?option=com_jem&view=event&id
 =709:selbsthilfe-chaos
END:VEVENT
END:VCALENDAR