BEGIN:VCALENDAR
VERSION:2.0
PRODID:-//217.160.0.216//NONSGML kigkonsult.se iCalcreator 2.20//
CALSCALE:GREGORIAN
METHOD:PUBLISH
X-WR-TIMEZONE:UTC
BEGIN:VEVENT
UID:event770@Kulturzentrum Staaken
DTSTAMP:20260420T154848Z
CATEGORIES:Kurse
DESCRIPTION:Linedance für Einsteiger \nKategorie: Kurse\nICS-Link: https://
 kulturzentrum-staaken.de/index.php?option=com_jem&view=event&id=770:lineda
 nce-fuer-einsteiger\n
DTSTART:20260820T100000Z
DTEND:20260820T100000Z
LOCATION:Kulturzentrum\,Sandstraße 41
SUMMARY:Linedance für Einsteiger 
URL:https://kulturzentrum-staaken.de/index.php?option=com_jem&view=event&id
 =770:linedance-fuer-einsteiger
END:VEVENT
END:VCALENDAR