BEGIN:VCALENDAR
VERSION:2.0
PRODID:-//217.160.0.216//NONSGML kigkonsult.se iCalcreator 2.20//
CALSCALE:GREGORIAN
METHOD:PUBLISH
X-WR-TIMEZONE:UTC
BEGIN:VEVENT
UID:event804@Kulturzentrum Staaken
DTSTAMP:20260420T131918Z
CATEGORIES:Kurse
DESCRIPTION:Smartphone Kurs\nKategorie: Kurse\nICS-Link: https://kulturzent
 rum-staaken.de/index.php?option=com_jem&view=event&id=804:smartphone-kurs
 \n
DTSTART:20260813T143000Z
DTEND:20260813T143000Z
LOCATION:Kulturzentrum\,Sandstraße 41
SUMMARY:Smartphone Kurs
URL:https://kulturzentrum-staaken.de/index.php?option=com_jem&view=event&id
 =804:smartphone-kurs
END:VEVENT
END:VCALENDAR