BEGIN:VCALENDAR
VERSION:2.0
PRODID:-//217.160.0.216//NONSGML kigkonsult.se iCalcreator 2.20//
CALSCALE:GREGORIAN
METHOD:PUBLISH
X-WR-TIMEZONE:UTC
BEGIN:VEVENT
UID:event854@Kulturzentrum Staaken
DTSTAMP:20260420T201031Z
CATEGORIES:Kurse
DESCRIPTION:Hatha-Yoga\nKategorie: Kurse\nICS-Link: https://kulturzentrum-s
 taaken.de/index.php?option=com_jem&view=event&id=854:hatha-yoga\n
DTSTART:20261126T090000Z
DTEND:20261126T090000Z
LOCATION:Kulturzentrum\,Sandstraße 41
SUMMARY:Hatha-Yoga
URL:https://kulturzentrum-staaken.de/index.php?option=com_jem&view=event&id
 =854:hatha-yoga
END:VEVENT
END:VCALENDAR